BEGIN:VCALENDAR
VERSION:2.0
PRODID:-//TV Uhwiesen - ECPv6.2.9//NONSGML v1.0//EN
CALSCALE:GREGORIAN
METHOD:PUBLISH
X-ORIGINAL-URL:https://www.tv-uhwiesen.ch
X-WR-CALDESC:Veranstaltungen im TV Uhwiesen
REFRESH-INTERVAL;VALUE=DURATION:PT1H
X-Robots-Tag:noindex
X-PUBLISHED-TTL:PT1H
BEGIN:VTIMEZONE
TZID:Europe/Zurich
BEGIN:DAYLIGHT
TZOFFSETFROM:+0100
TZOFFSETTO:+0200
TZNAME:CEST
DTSTART:20260329T010000
END:DAYLIGHT
BEGIN:STANDARD
TZOFFSETFROM:+0200
TZOFFSETTO:+0100
TZNAME:CET
DTSTART:20261025T010000
END:STANDARD
BEGIN:DAYLIGHT
TZOFFSETFROM:+0100
TZOFFSETTO:+0200
TZNAME:CEST
DTSTART:20270328T010000
END:DAYLIGHT
BEGIN:STANDARD
TZOFFSETFROM:+0200
TZOFFSETTO:+0100
TZNAME:CET
DTSTART:20271031T010000
END:STANDARD
END:VTIMEZONE
BEGIN:VEVENT
DTSTART;VALUE=DATE:20260912
DTEND;VALUE=DATE:20260914
DTSTAMP:20260420T044132
CREATED:20260128T200833Z
LAST-MODIFIED:20260128T200833Z
UID:707-1789171200-1789343999@www.tv-uhwiesen.ch
SUMMARY:Turnfahrt
DESCRIPTION:
URL:https://www.tv-uhwiesen.ch/event/turnfahrt-4/
CATEGORIES:Turnverein
END:VEVENT
BEGIN:VEVENT
DTSTART;VALUE=DATE:20260922
DTEND;VALUE=DATE:20260923
DTSTAMP:20260420T044132
CREATED:20260128T200903Z
LAST-MODIFIED:20260128T200903Z
UID:709-1790035200-1790121599@www.tv-uhwiesen.ch
SUMMARY:Roadmovie
DESCRIPTION:
URL:https://www.tv-uhwiesen.ch/event/roadmovie/
END:VEVENT
BEGIN:VEVENT
DTSTART;VALUE=DATE:20260926
DTEND;VALUE=DATE:20260927
DTSTAMP:20260420T044132
CREATED:20260128T200949Z
LAST-MODIFIED:20260128T200949Z
UID:711-1790380800-1790467199@www.tv-uhwiesen.ch
SUMMARY:Altpapiersammlung Männerriege
DESCRIPTION:
URL:https://www.tv-uhwiesen.ch/event/altpapiersammlung-maennerriege-3/
CATEGORIES:Männerriege
END:VEVENT
BEGIN:VEVENT
DTSTART;VALUE=DATE:20261204
DTEND;VALUE=DATE:20261205
DTSTAMP:20260420T044132
CREATED:20260128T201010Z
LAST-MODIFIED:20260128T201010Z
UID:713-1796342400-1796428799@www.tv-uhwiesen.ch
SUMMARY:Chlausabend
DESCRIPTION:
URL:https://www.tv-uhwiesen.ch/event/chlausabend-4/
CATEGORIES:Turnverein
END:VEVENT
BEGIN:VEVENT
DTSTART;VALUE=DATE:20270115
DTEND;VALUE=DATE:20270118
DTSTAMP:20260420T044132
CREATED:20260128T201044Z
LAST-MODIFIED:20260128T201044Z
UID:715-1799971200-1800230399@www.tv-uhwiesen.ch
SUMMARY:Hilari
DESCRIPTION:
URL:https://www.tv-uhwiesen.ch/event/hilari-3/
CATEGORIES:Turnverein
END:VEVENT
BEGIN:VEVENT
DTSTART;VALUE=DATE:20270129
DTEND;VALUE=DATE:20270130
DTSTAMP:20260420T044132
CREATED:20260128T201141Z
LAST-MODIFIED:20260128T201141Z
UID:717-1801180800-1801267199@www.tv-uhwiesen.ch
SUMMARY:Generalversammlung 2027
DESCRIPTION:
URL:https://www.tv-uhwiesen.ch/event/generalversammlung-2027/
CATEGORIES:Frauenturnverein,Männerriege,Turnverein
END:VEVENT
END:VCALENDAR