BEGIN:VCALENDAR
VERSION:2.0
PRODID:-//TV Uhwiesen - ECPv6.2.9//NONSGML v1.0//EN
CALSCALE:GREGORIAN
METHOD:PUBLISH
X-WR-CALNAME:TV Uhwiesen
X-ORIGINAL-URL:https://www.tv-uhwiesen.ch
X-WR-CALDESC:Veranstaltungen im TV Uhwiesen
REFRESH-INTERVAL;VALUE=DURATION:PT1H
X-Robots-Tag:noindex
X-PUBLISHED-TTL:PT1H
BEGIN:VTIMEZONE
TZID:Europe/Zurich
BEGIN:DAYLIGHT
TZOFFSETFROM:+0100
TZOFFSETTO:+0200
TZNAME:CEST
DTSTART:20180325T010000
END:DAYLIGHT
BEGIN:STANDARD
TZOFFSETFROM:+0200
TZOFFSETTO:+0100
TZNAME:CET
DTSTART:20181028T010000
END:STANDARD
BEGIN:DAYLIGHT
TZOFFSETFROM:+0100
TZOFFSETTO:+0200
TZNAME:CEST
DTSTART:20190331T010000
END:DAYLIGHT
BEGIN:STANDARD
TZOFFSETFROM:+0200
TZOFFSETTO:+0100
TZNAME:CET
DTSTART:20191027T010000
END:STANDARD
BEGIN:DAYLIGHT
TZOFFSETFROM:+0100
TZOFFSETTO:+0200
TZNAME:CEST
DTSTART:20200329T010000
END:DAYLIGHT
BEGIN:STANDARD
TZOFFSETFROM:+0200
TZOFFSETTO:+0100
TZNAME:CET
DTSTART:20201025T010000
END:STANDARD
BEGIN:DAYLIGHT
TZOFFSETFROM:+0100
TZOFFSETTO:+0200
TZNAME:CEST
DTSTART:20210328T010000
END:DAYLIGHT
BEGIN:STANDARD
TZOFFSETFROM:+0200
TZOFFSETTO:+0100
TZNAME:CET
DTSTART:20211031T010000
END:STANDARD
END:VTIMEZONE
BEGIN:VEVENT
DTSTART;TZID=Europe/Zurich:20210129T080000
DTEND;TZID=Europe/Zurich:20210129T170000
DTSTAMP:20260420T045436
CREATED:20200303T183841Z
LAST-MODIFIED:20210108T161008Z
UID:481-1611907200-1611939600@www.tv-uhwiesen.ch
SUMMARY:Generalversammlung 2021
DESCRIPTION:
URL:https://www.tv-uhwiesen.ch/event/generalversammlung-2021/
END:VEVENT
BEGIN:VEVENT
DTSTART;VALUE=DATE:20210115
DTEND;VALUE=DATE:20210117
DTSTAMP:20260420T045436
CREATED:20200303T183728Z
LAST-MODIFIED:20200303T183728Z
UID:479-1610668800-1610841599@www.tv-uhwiesen.ch
SUMMARY:Hilari 2021
DESCRIPTION:
URL:https://www.tv-uhwiesen.ch/event/hilari-2021/
CATEGORIES:Turnverein
END:VEVENT
BEGIN:VEVENT
DTSTART;TZID=Europe/Zurich:20201204T180000
DTEND;TZID=Europe/Zurich:20201204T230000
DTSTAMP:20260420T045436
CREATED:20200303T183600Z
LAST-MODIFIED:20200303T183600Z
UID:477-1607104800-1607122800@www.tv-uhwiesen.ch
SUMMARY:Chlausabend 2020
DESCRIPTION:
URL:https://www.tv-uhwiesen.ch/event/chlausabend-2020/
LOCATION:Schützenhaus\, Uhwiesen\, 8248\, Schweiz
CATEGORIES:Jugendriege,Mädchenriege,Turnverein
END:VEVENT
BEGIN:VEVENT
DTSTART;TZID=Europe/Zurich:20201107T090000
DTEND;TZID=Europe/Zurich:20201107T170000
DTSTAMP:20260420T045436
CREATED:20200303T174427Z
LAST-MODIFIED:20200303T174427Z
UID:475-1604739600-1604768400@www.tv-uhwiesen.ch
SUMMARY:Altpapiersammlung
DESCRIPTION:Wir bitten Sie Ihr Altpapier gebündelt und gut sichtbar bis 09.00 Uhr am Strassenrand bereitzustellen.
URL:https://www.tv-uhwiesen.ch/event/altpapiersammlung-12/
CATEGORIES:Männerriege
END:VEVENT
BEGIN:VEVENT
DTSTART;VALUE=DATE:20200919
DTEND;VALUE=DATE:20200921
DTSTAMP:20260420T045436
CREATED:20200303T174304Z
LAST-MODIFIED:20200303T174304Z
UID:472-1600473600-1600646399@www.tv-uhwiesen.ch
SUMMARY:Turnfahrt
DESCRIPTION:
URL:https://www.tv-uhwiesen.ch/event/turnfahrt/
CATEGORIES:Turnverein
END:VEVENT
BEGIN:VEVENT
DTSTART;TZID=Europe/Zurich:20200704T090000
DTEND;TZID=Europe/Zurich:20200704T170000
DTSTAMP:20260420T045436
CREATED:20200303T173941Z
LAST-MODIFIED:20200303T173941Z
UID:468-1593853200-1593882000@www.tv-uhwiesen.ch
SUMMARY:Altpapiersammlung
DESCRIPTION:Wir bitten Sie Ihr Altpapier gebündelt und gut sichtbar bis 09.00 Uhr am Strassenrand bereitzustellen.
URL:https://www.tv-uhwiesen.ch/event/altpapiersammlung-11/
CATEGORIES:Turnverein
END:VEVENT
BEGIN:VEVENT
DTSTART;VALUE=DATE:20200516
DTEND;VALUE=DATE:20200518
DTSTAMP:20260420T045436
CREATED:20200303T172617Z
LAST-MODIFIED:20200303T172617Z
UID:458-1589587200-1589759999@www.tv-uhwiesen.ch
SUMMARY:Jugendsporttag 2020
DESCRIPTION:
URL:https://www.tv-uhwiesen.ch/event/jugendsporttag-2020/
CATEGORIES:Jugendriege,Mädchenriege
END:VEVENT
BEGIN:VEVENT
DTSTART;TZID=Europe/Zurich:20200321T183000
DTEND;TZID=Europe/Zurich:20200321T230000
DTSTAMP:20260420T045436
CREATED:20200303T172945Z
LAST-MODIFIED:20200303T173149Z
UID:460-1584815400-1584831600@www.tv-uhwiesen.ch
SUMMARY:Jubiläum Pfenninger
DESCRIPTION:Der Turnverein verwöhnt die Gäste und Belegschaft der Pfenninger Maler AG in Hallau mit einer Barrendarbietung
URL:https://www.tv-uhwiesen.ch/event/jubilaeum-pfenninger/
CATEGORIES:Turnverein
END:VEVENT
BEGIN:VEVENT
DTSTART;TZID=Europe/Zurich:20200314T090000
DTEND;TZID=Europe/Zurich:20200314T170000
DTSTAMP:20260420T045436
CREATED:20200303T171946Z
LAST-MODIFIED:20200303T171946Z
UID:456-1584176400-1584205200@www.tv-uhwiesen.ch
SUMMARY:Altpapiersammlung
DESCRIPTION:Wir bitten Sie Ihr Altpapier gebündelt und gut sichtbar bis 09.00 Uhr am Strassenrand bereitzustellen.
URL:https://www.tv-uhwiesen.ch/event/altpapiersammlung-10/
LOCATION:Werkgebäude Uhwiesen\,  Wassergasse 8\, Uhwiesen\, Zürich\, 8248\, Schweiz
CATEGORIES:Turnverein
END:VEVENT
BEGIN:VEVENT
DTSTART;TZID=Europe/Zurich:20200131T200000
DTEND;TZID=Europe/Zurich:20200131T220000
DTSTAMP:20260420T045436
CREATED:20181230T143011Z
LAST-MODIFIED:20200105T143759Z
UID:389-1580500800-1580508000@www.tv-uhwiesen.ch
SUMMARY:Generalversammlung 2020
DESCRIPTION:Einladung GV 2020
URL:https://www.tv-uhwiesen.ch/event/generalversammlung-2020/
CATEGORIES:Turnverein
END:VEVENT
BEGIN:VEVENT
DTSTART;VALUE=DATE:20191206
DTEND;VALUE=DATE:20191207
DTSTAMP:20260420T045436
CREATED:20181230T142911Z
LAST-MODIFIED:20181230T143055Z
UID:387-1575590400-1575676799@www.tv-uhwiesen.ch
SUMMARY:Chlausabend 2019
DESCRIPTION:
URL:https://www.tv-uhwiesen.ch/event/chlausabend-2019/
LOCATION:Schützenhaus\, Uhwiesen\, 8248\, Schweiz
CATEGORIES:Jugendriege,Mädchenriege,Turnverein
END:VEVENT
BEGIN:VEVENT
DTSTART;VALUE=DATE:20191122
DTEND;VALUE=DATE:20191124
DTSTAMP:20260420T045436
CREATED:20181230T142821Z
LAST-MODIFIED:20181230T143103Z
UID:385-1574380800-1574553599@www.tv-uhwiesen.ch
SUMMARY:Chränzli 2019
DESCRIPTION:
URL:https://www.tv-uhwiesen.ch/event/chra%cc%88nzli-2019/
LOCATION:Turnhalle Uhwiesen\, Zöllistrasse 18\, Uhwiesen\, Zürich\, 8248\, Schweiz
CATEGORIES:Frauenturnverein,Jugendriege,Mädchenriege,Männerriege,Turnverein
END:VEVENT
BEGIN:VEVENT
DTSTART;VALUE=DATE:20191110
DTEND;VALUE=DATE:20191111
DTSTAMP:20260420T045436
CREATED:20181230T142741Z
LAST-MODIFIED:20181230T143111Z
UID:383-1573344000-1573430399@www.tv-uhwiesen.ch
SUMMARY:Sonntags-Probe Chränzli
DESCRIPTION:
URL:https://www.tv-uhwiesen.ch/event/sonntags-probe-chra%cc%88nzli/
CATEGORIES:Frauenturnverein,Jugendriege,Mädchenriege,Männerriege,Turnverein
END:VEVENT
BEGIN:VEVENT
DTSTART;TZID=Europe/Zurich:20191109T090000
DTEND;TZID=Europe/Zurich:20191109T170000
DTSTAMP:20260420T045436
CREATED:20181230T141747Z
LAST-MODIFIED:20181230T141747Z
UID:369-1573290000-1573318800@www.tv-uhwiesen.ch
SUMMARY:Altpapiersammlung
DESCRIPTION:Wir bitten Sie Ihr Altpapier gebündelt und gut sichtbar bis 09.00 Uhr am Strassenrand bereitzustellen.
URL:https://www.tv-uhwiesen.ch/event/altpapiersammlung-9/
CATEGORIES:Männerriege
END:VEVENT
BEGIN:VEVENT
DTSTART;VALUE=DATE:20190907
DTEND;VALUE=DATE:20190909
DTSTAMP:20260420T045436
CREATED:20181230T142619Z
LAST-MODIFIED:20181230T143117Z
UID:381-1567814400-1567987199@www.tv-uhwiesen.ch
SUMMARY:Turnfahrt 2019
DESCRIPTION:
URL:https://www.tv-uhwiesen.ch/event/turnfahrt-2019/
CATEGORIES:Turnverein
END:VEVENT
BEGIN:VEVENT
DTSTART;VALUE=DATE:20190831
DTEND;VALUE=DATE:20190901
DTSTAMP:20260420T045436
CREATED:20181230T142530Z
LAST-MODIFIED:20181230T143125Z
UID:379-1567209600-1567295999@www.tv-uhwiesen.ch
SUMMARY:Jugendwettkampf Deutweg 2019
DESCRIPTION:
URL:https://www.tv-uhwiesen.ch/event/jugendwettkampf-deutweg-2019/
CATEGORIES:Jugendriege,Mädchenriege
END:VEVENT
BEGIN:VEVENT
DTSTART;TZID=Europe/Zurich:20190706T090000
DTEND;TZID=Europe/Zurich:20190706T170000
DTSTAMP:20260420T045436
CREATED:20181230T141659Z
LAST-MODIFIED:20181230T143130Z
UID:367-1562403600-1562432400@www.tv-uhwiesen.ch
SUMMARY:Altpapiersammlung
DESCRIPTION:Wir bitten Sie Ihr Altpapier gebündelt und gut sichtbar bis 09.00 Uhr am Strassenrand bereitzustellen.
URL:https://www.tv-uhwiesen.ch/event/altpapiersammlung-8/
CATEGORIES:Turnverein
END:VEVENT
BEGIN:VEVENT
DTSTART;VALUE=DATE:20190620
DTEND;VALUE=DATE:20190624
DTSTAMP:20260420T045436
CREATED:20181230T142045Z
LAST-MODIFIED:20190202T141200Z
UID:377-1560988800-1561334399@www.tv-uhwiesen.ch
SUMMARY:Eidgenössisches Turnfest Aarau
DESCRIPTION:Einsatz Turnverein Uhwiesen:\nDonnerstag\, 20.06.2019 \n11:00 Hochsprung (HO-2)\n11:00 Kugelstossen (KUG-7) \n13:00 Weitsprung (WE-3)\n13:12 Wurfkörper (WU-4) \n14:24 Pendelstafette PS-1
URL:https://www.tv-uhwiesen.ch/event/eidgenoessisches-turnfest-aarau/
CATEGORIES:Turnverein
END:VEVENT
BEGIN:VEVENT
DTSTART;VALUE=DATE:20190601
DTEND;VALUE=DATE:20190603
DTSTAMP:20260420T045436
CREATED:20181230T141926Z
LAST-MODIFIED:20181230T144039Z
UID:375-1559347200-1559519999@www.tv-uhwiesen.ch
SUMMARY:Regionalmeisterschaft Trüllikon
DESCRIPTION:
URL:https://www.tv-uhwiesen.ch/event/regionalmeisterschaft-tru%cc%88llikon/
CATEGORIES:Turnverein
END:VEVENT
BEGIN:VEVENT
DTSTART;VALUE=DATE:20190519
DTEND;VALUE=DATE:20190520
DTSTAMP:20260420T045436
CREATED:20181230T141856Z
LAST-MODIFIED:20181230T141856Z
UID:373-1558224000-1558310399@www.tv-uhwiesen.ch
SUMMARY:Jugendsporttag
DESCRIPTION:
URL:https://www.tv-uhwiesen.ch/event/jugendsporttag/
CATEGORIES:Jugendriege,Mädchenriege
END:VEVENT
BEGIN:VEVENT
DTSTART;VALUE=DATE:20190412
DTEND;VALUE=DATE:20190413
DTSTAMP:20260420T045436
CREATED:20181230T141828Z
LAST-MODIFIED:20190126T075703Z
UID:371-1555027200-1555113599@www.tv-uhwiesen.ch
SUMMARY:Oster-Kegeln/Bowlen
DESCRIPTION:
URL:https://www.tv-uhwiesen.ch/event/oster-kegeln-bowlen-2/
CATEGORIES:Turnverein
END:VEVENT
BEGIN:VEVENT
DTSTART;TZID=Europe/Zurich:20190316T090000
DTEND;TZID=Europe/Zurich:20190316T170000
DTSTAMP:20260420T045436
CREATED:20181230T141601Z
LAST-MODIFIED:20181230T141614Z
UID:365-1552726800-1552755600@www.tv-uhwiesen.ch
SUMMARY:Altpapiersammlung
DESCRIPTION:Wir bitten Sie Ihr Altpapier gebündelt und gut sichtbar bis 09.00 Uhr am Strassenrand bereitzustellen.
URL:https://www.tv-uhwiesen.ch/event/altpapiersammlung-7/
CATEGORIES:Turnverein
END:VEVENT
BEGIN:VEVENT
DTSTART;VALUE=DATE:20190216
DTEND;VALUE=DATE:20190218
DTSTAMP:20260420T045436
CREATED:20181230T141346Z
LAST-MODIFIED:20181230T141408Z
UID:362-1550275200-1550447999@www.tv-uhwiesen.ch
SUMMARY:Skiweekend 2019
DESCRIPTION:
URL:https://www.tv-uhwiesen.ch/event/skiweekend-2019/
CATEGORIES:Turnverein
END:VEVENT
BEGIN:VEVENT
DTSTART;TZID=Europe/Zurich:20190125T200000
DTEND;TZID=Europe/Zurich:20190125T220000
DTSTAMP:20260420T045436
CREATED:20180303T053919Z
LAST-MODIFIED:20190103T174047Z
UID:330-1548446400-1548453600@www.tv-uhwiesen.ch
SUMMARY:Generalversammlung 2019
DESCRIPTION:Einladung GV 2019
URL:https://www.tv-uhwiesen.ch/event/generalversammlung-2019/
CATEGORIES:Turnverein
END:VEVENT
BEGIN:VEVENT
DTSTART;TZID=Europe/Zurich:20181207T170000
DTEND;TZID=Europe/Zurich:20181207T230000
DTSTAMP:20260420T045436
CREATED:20180303T055525Z
LAST-MODIFIED:20180303T055525Z
UID:347-1544202000-1544223600@www.tv-uhwiesen.ch
SUMMARY:Chlausabend 2018
DESCRIPTION:
URL:https://www.tv-uhwiesen.ch/event/chlausabend-2018/
CATEGORIES:Jugendriege,Mädchenriege,Turnverein
END:VEVENT
BEGIN:VEVENT
DTSTART;TZID=Europe/Zurich:20181110T080000
DTEND;TZID=Europe/Zurich:20181110T170000
DTSTAMP:20260420T045436
CREATED:20180303T054431Z
LAST-MODIFIED:20180303T054431Z
UID:336-1541836800-1541869200@www.tv-uhwiesen.ch
SUMMARY:Altpapiersammlung
DESCRIPTION:Wir bitten Sie Ihr Altpapier gebündelt und gut sichtbar bis 09.00 Uhr am Strassenrand bereitzustellen.
URL:https://www.tv-uhwiesen.ch/event/altpapiersammlung-6/
CATEGORIES:Männerriege
END:VEVENT
BEGIN:VEVENT
DTSTART;VALUE=DATE:20180908
DTEND;VALUE=DATE:20180910
DTSTAMP:20260420T045436
CREATED:20180303T055422Z
LAST-MODIFIED:20180303T055422Z
UID:346-1536364800-1536537599@www.tv-uhwiesen.ch
SUMMARY:Turnfahrt 2018
DESCRIPTION:
URL:https://www.tv-uhwiesen.ch/event/turnfahrt-2018/
CATEGORIES:Turnverein
END:VEVENT
BEGIN:VEVENT
DTSTART;VALUE=DATE:20180901
DTEND;VALUE=DATE:20180902
DTSTAMP:20260420T045436
CREATED:20180303T055235Z
LAST-MODIFIED:20180303T055235Z
UID:345-1535760000-1535846399@www.tv-uhwiesen.ch
SUMMARY:Jugendwettkampf Deutweg 2018
DESCRIPTION:
URL:https://www.tv-uhwiesen.ch/event/jugendwettkampf-deutweg-2018/
CATEGORIES:Jugendriege,Mädchenriege
END:VEVENT
BEGIN:VEVENT
DTSTART;TZID=Europe/Zurich:20180804T000000
DTEND;TZID=Europe/Zurich:20180804T000000
DTSTAMP:20260420T045436
CREATED:20180410T085149Z
LAST-MODIFIED:20180410T085149Z
UID:344-1533340800-1533340800@www.tv-uhwiesen.ch
SUMMARY:Beachvolleyball-Night Marthalen
DESCRIPTION:
URL:https://www.tv-uhwiesen.ch/event/beachvolleyball-night-marthalen/
END:VEVENT
BEGIN:VEVENT
DTSTART;TZID=Europe/Zurich:20180728T000000
DTEND;TZID=Europe/Zurich:20180728T000000
DTSTAMP:20260420T045436
CREATED:20180410T084743Z
LAST-MODIFIED:20180410T084743Z
UID:343-1532736000-1532736000@www.tv-uhwiesen.ch
SUMMARY:Adiletten 10-Kampf
DESCRIPTION:
URL:https://www.tv-uhwiesen.ch/event/adiletten-10-kampf/
END:VEVENT
END:VCALENDAR