BEGIN:VCALENDAR
VERSION:2.0
PRODID:-//TV Uhwiesen - ECPv6.2.9//NONSGML v1.0//EN
CALSCALE:GREGORIAN
METHOD:PUBLISH
X-WR-CALNAME:TV Uhwiesen
X-ORIGINAL-URL:https://www.tv-uhwiesen.ch
X-WR-CALDESC:Veranstaltungen im TV Uhwiesen
REFRESH-INTERVAL;VALUE=DURATION:PT1H
X-Robots-Tag:noindex
X-PUBLISHED-TTL:PT1H
BEGIN:VTIMEZONE
TZID:Europe/Zurich
BEGIN:DAYLIGHT
TZOFFSETFROM:+0100
TZOFFSETTO:+0200
TZNAME:CEST
DTSTART:20150329T010000
END:DAYLIGHT
BEGIN:STANDARD
TZOFFSETFROM:+0200
TZOFFSETTO:+0100
TZNAME:CET
DTSTART:20151025T010000
END:STANDARD
BEGIN:DAYLIGHT
TZOFFSETFROM:+0100
TZOFFSETTO:+0200
TZNAME:CEST
DTSTART:20160327T010000
END:DAYLIGHT
BEGIN:STANDARD
TZOFFSETFROM:+0200
TZOFFSETTO:+0100
TZNAME:CET
DTSTART:20161030T010000
END:STANDARD
BEGIN:DAYLIGHT
TZOFFSETFROM:+0100
TZOFFSETTO:+0200
TZNAME:CEST
DTSTART:20170326T010000
END:DAYLIGHT
BEGIN:STANDARD
TZOFFSETFROM:+0200
TZOFFSETTO:+0100
TZNAME:CET
DTSTART:20171029T010000
END:STANDARD
END:VTIMEZONE
BEGIN:VEVENT
DTSTART;VALUE=DATE:20171208
DTEND;VALUE=DATE:20171209
DTSTAMP:20260420T052527
CREATED:20170105T201359Z
LAST-MODIFIED:20170105T201359Z
UID:268-1512691200-1512777599@www.tv-uhwiesen.ch
SUMMARY:Chlausabend 2017
DESCRIPTION:
URL:https://www.tv-uhwiesen.ch/event/chlausabend-2017/
CATEGORIES:Jugendriege,Mädchenriege,Turnverein
END:VEVENT
BEGIN:VEVENT
DTSTART;VALUE=DATE:20171124
DTEND;VALUE=DATE:20171126
DTSTAMP:20260420T052527
CREATED:20170105T200843Z
LAST-MODIFIED:20171113T175742Z
UID:264-1511481600-1511654399@www.tv-uhwiesen.ch
SUMMARY:Chränzli 2017
DESCRIPTION:Das Chränzli 2017 findet am Freitag und Samstag Abend statt!\nMehr Informationen zum Freitag\nMehr Informationen zum Samstag
URL:https://www.tv-uhwiesen.ch/event/chraenzli-2017/
LOCATION:Turnhalle Uhwiesen\, Zöllistrasse 18\, Uhwiesen\, Zürich\, 8248\, Schweiz
CATEGORIES:Frauenturnverein,Jugendriege,Mädchenriege,Männerriege,Turnverein
ATTACH;FMTTYPE=image/jpeg:https://www.tv-uhwiesen.ch/wordpress/wp-content/uploads/2017/11/Titelblatt.jpg
END:VEVENT
BEGIN:VEVENT
DTSTART;TZID=Europe/Zurich:20171112T090000
DTEND;TZID=Europe/Zurich:20171112T120000
DTSTAMP:20260420T052527
CREATED:20170105T202615Z
LAST-MODIFIED:20170105T202615Z
UID:272-1510477200-1510488000@www.tv-uhwiesen.ch
SUMMARY:Probesonntag Chränzli 2017
DESCRIPTION:
URL:https://www.tv-uhwiesen.ch/event/probesonntag-chraenzli-2017/
END:VEVENT
BEGIN:VEVENT
DTSTART;TZID=Europe/Zurich:20171111T090000
DTEND;TZID=Europe/Zurich:20171111T170000
DTSTAMP:20260420T052527
CREATED:20170105T200035Z
LAST-MODIFIED:20170105T200035Z
UID:256-1510390800-1510419600@www.tv-uhwiesen.ch
SUMMARY:Altpapiersammlung
DESCRIPTION:Wir bitten Sie Ihr Altpapier gebündelt und gut sichtbar bis 09.00 Uhr am Strassenrand bereitzustellen.
URL:https://www.tv-uhwiesen.ch/event/altpapiersammlung-2/
CATEGORIES:Männerriege
END:VEVENT
BEGIN:VEVENT
DTSTART;VALUE=DATE:20170909
DTEND;VALUE=DATE:20170911
DTSTAMP:20260420T052527
CREATED:20170105T200732Z
LAST-MODIFIED:20170105T200732Z
UID:262-1504915200-1505087999@www.tv-uhwiesen.ch
SUMMARY:Turnfahrt 2017
DESCRIPTION:
URL:https://www.tv-uhwiesen.ch/event/turnfahrt-2017/
CATEGORIES:Turnverein
END:VEVENT
BEGIN:VEVENT
DTSTART;VALUE=DATE:20170902
DTEND;VALUE=DATE:20170903
DTSTAMP:20260420T052527
CREATED:20170105T201312Z
LAST-MODIFIED:20170105T201312Z
UID:266-1504310400-1504396799@www.tv-uhwiesen.ch
SUMMARY:Jugendwettkampf Deutweg 2017
DESCRIPTION:
URL:https://www.tv-uhwiesen.ch/event/jugendwettkampf-deutweg-2017/
CATEGORIES:Jugendriege,Mädchenriege
END:VEVENT
BEGIN:VEVENT
DTSTART;TZID=Europe/Zurich:20170826T120000
DTEND;TZID=Europe/Zurich:20170826T170000
DTSTAMP:20260420T052527
CREATED:20170131T190509Z
LAST-MODIFIED:20170131T190509Z
UID:282-1503748800-1503766800@www.tv-uhwiesen.ch
SUMMARY:Cholfirstwettkampf 2017
DESCRIPTION:Helfereinsatz
URL:https://www.tv-uhwiesen.ch/event/cholfirstwettkampf-2017/
CATEGORIES:Männerriege,Turnverein
END:VEVENT
BEGIN:VEVENT
DTSTART;TZID=Europe/Zurich:20170708T090000
DTEND;TZID=Europe/Zurich:20170708T170000
DTSTAMP:20260420T052527
CREATED:20170105T200406Z
LAST-MODIFIED:20170105T200406Z
UID:254-1499504400-1499533200@www.tv-uhwiesen.ch
SUMMARY:Altpapiersammlung
DESCRIPTION:Wir bitten Sie Ihr Altpapier gebündelt und gut sichtbar bis 09.00 Uhr am Strassenrand bereitzustellen.
URL:https://www.tv-uhwiesen.ch/event/altpapiersammlung-3/
CATEGORIES:Turnverein
END:VEVENT
BEGIN:VEVENT
DTSTART;VALUE=DATE:20170623
DTEND;VALUE=DATE:20170626
DTSTAMP:20260420T052527
CREATED:20170105T200453Z
LAST-MODIFIED:20170105T200453Z
UID:258-1498176000-1498435199@www.tv-uhwiesen.ch
SUMMARY:Kantonalturnfest Tösstal
DESCRIPTION:
URL:https://www.tv-uhwiesen.ch/event/kantonalturnfest-toesstal/
CATEGORIES:Turnverein
END:VEVENT
BEGIN:VEVENT
DTSTART;VALUE=DATE:20170610
DTEND;VALUE=DATE:20170612
DTSTAMP:20260420T052527
CREATED:20170105T200618Z
LAST-MODIFIED:20170105T200618Z
UID:260-1497052800-1497225599@www.tv-uhwiesen.ch
SUMMARY:Regionalmeisterschaft Wülflingen
DESCRIPTION:
URL:https://www.tv-uhwiesen.ch/event/regionalmeisterschaft-wuelflingen/
CATEGORIES:Turnverein
END:VEVENT
BEGIN:VEVENT
DTSTART;VALUE=DATE:20170520
DTEND;VALUE=DATE:20170521
DTSTAMP:20260420T052527
CREATED:20170110T164452Z
LAST-MODIFIED:20170110T164452Z
UID:274-1495238400-1495324799@www.tv-uhwiesen.ch
SUMMARY:Jugendsporttag 2017
DESCRIPTION:
URL:https://www.tv-uhwiesen.ch/event/jugendsporttag-2017/
CATEGORIES:Jugendriege,Mädchenriege
END:VEVENT
BEGIN:VEVENT
DTSTART;TZID=Europe/Zurich:20170318T090000
DTEND;TZID=Europe/Zurich:20170318T170000
DTSTAMP:20260420T052527
CREATED:20170105T195849Z
LAST-MODIFIED:20170105T200220Z
UID:252-1489827600-1489856400@www.tv-uhwiesen.ch
SUMMARY:Altpapiersammlung
DESCRIPTION:Wir bitten Sie Ihr Altpapier gebündelt und gut sichtbar bis 09.00 Uhr am Strassenrand bereitzustellen.
URL:https://www.tv-uhwiesen.ch/event/altpapiersammlung/
CATEGORIES:Turnverein
END:VEVENT
BEGIN:VEVENT
DTSTART;VALUE=DATE:20170218
DTEND;VALUE=DATE:20170220
DTSTAMP:20260420T052527
CREATED:20170105T193611Z
LAST-MODIFIED:20170110T164308Z
UID:250-1487376000-1487548799@www.tv-uhwiesen.ch
SUMMARY:Skiweekend 2017
DESCRIPTION:organisiert von Roman und Thomas. Ort geheim. Supergeheim.
URL:https://www.tv-uhwiesen.ch/event/skiweekend-2017/
CATEGORIES:Turnverein
END:VEVENT
BEGIN:VEVENT
DTSTART;TZID=Europe/Zurich:20170127T200000
DTEND;TZID=Europe/Zurich:20170127T220000
DTSTAMP:20260420T052527
CREATED:20160113T082144Z
LAST-MODIFIED:20170124T180915Z
UID:186-1485547200-1485554400@www.tv-uhwiesen.ch
SUMMARY:Generalversammlung 2017
DESCRIPTION:Einladung GV 2017 \n  \nWerkgebäude Uhwiesen
URL:https://www.tv-uhwiesen.ch/event/generalversammlung-2017/
CATEGORIES:Turnverein
END:VEVENT
BEGIN:VEVENT
DTSTART;VALUE=DATE:20161202
DTEND;VALUE=DATE:20161203
DTSTAMP:20260420T052527
CREATED:20160113T082110Z
LAST-MODIFIED:20160113T082110Z
UID:185-1480636800-1480723199@www.tv-uhwiesen.ch
SUMMARY:Chlausabend 2016
DESCRIPTION:
URL:https://www.tv-uhwiesen.ch/event/chlausabend-2016/
LOCATION:Schützenhaus\, Uhwiesen\, 8248\, Schweiz
CATEGORIES:Jugendriege,Mädchenriege,Turnverein
END:VEVENT
BEGIN:VEVENT
DTSTART;TZID=Europe/Zurich:20161112T090000
DTEND;TZID=Europe/Zurich:20161112T140000
DTSTAMP:20260420T052527
CREATED:20151230T133117Z
LAST-MODIFIED:20151230T133117Z
UID:113-1478941200-1478959200@www.tv-uhwiesen.ch
SUMMARY:Altpapiersammlung Herbst 2016\, Maennerriege
DESCRIPTION:Wir bitten Sie Ihr Altpapier gebündelt und gut sichtbar bis 09.00 Uhr am Strassenrand bereitzustellen.
URL:https://www.tv-uhwiesen.ch/event/altpapiersammlung-herbst-2016-maennerriege/
LOCATION:Uhwiesen\, Uhwiesen\, 8248\, Schweiz
CATEGORIES:Männerriege
END:VEVENT
BEGIN:VEVENT
DTSTART;VALUE=DATE:20161022
DTEND;VALUE=DATE:20161023
DTSTAMP:20260420T052527
CREATED:20160113T082021Z
LAST-MODIFIED:20160113T082700Z
UID:184-1477094400-1477180799@www.tv-uhwiesen.ch
SUMMARY:Kegeln 2016
DESCRIPTION:
URL:https://www.tv-uhwiesen.ch/event/kegeln-2016/
CATEGORIES:Turnverein
END:VEVENT
BEGIN:VEVENT
DTSTART;VALUE=DATE:20160917
DTEND;VALUE=DATE:20160919
DTSTAMP:20260420T052527
CREATED:20160113T081951Z
LAST-MODIFIED:20160113T082707Z
UID:183-1474070400-1474243199@www.tv-uhwiesen.ch
SUMMARY:Turnfahrt 2016
DESCRIPTION:Ort und Organisator noch offen.
URL:https://www.tv-uhwiesen.ch/event/turnfahrt-2016/
CATEGORIES:Turnverein
END:VEVENT
BEGIN:VEVENT
DTSTART;VALUE=DATE:20160903
DTEND;VALUE=DATE:20160904
DTSTAMP:20260420T052527
CREATED:20160113T081903Z
LAST-MODIFIED:20160113T082719Z
UID:182-1472860800-1472947199@www.tv-uhwiesen.ch
SUMMARY:Spiel- und Stafettentag Deutweg 2016
DESCRIPTION:
URL:https://www.tv-uhwiesen.ch/event/spiel-und-stafettentag-deutweg-2016/
CATEGORIES:Jugendriege,Mädchenriege
END:VEVENT
BEGIN:VEVENT
DTSTART;VALUE=DATE:20160827
DTEND;VALUE=DATE:20160828
DTSTAMP:20260420T052527
CREATED:20160113T075600Z
LAST-MODIFIED:20161211T091712Z
UID:177-1472256000-1472342399@www.tv-uhwiesen.ch
SUMMARY:100 Jahr Jubiläum TV Uhwiesen
DESCRIPTION:Weitere Infos sind hier verfügbar!
URL:https://www.tv-uhwiesen.ch/event/100-jahr-jubilaum-tv-uhwiesen/
LOCATION:Schützenhaus\, Uhwiesen\, 8248\, Schweiz
CATEGORIES:Turnverein
END:VEVENT
BEGIN:VEVENT
DTSTART;TZID=Europe/Zurich:20160709T090000
DTEND;TZID=Europe/Zurich:20160709T140000
DTSTAMP:20260420T052527
CREATED:20150709T070007Z
LAST-MODIFIED:20151230T133704Z
UID:115-1468054800-1468072800@www.tv-uhwiesen.ch
SUMMARY:Altpapiersammlung Sommer 2016
DESCRIPTION:Wir bitten Sie Ihr Altpapier gebündelt und gut sichtbar bis 09.00 Uhr am Strassenrand bereitzustellen.
URL:https://www.tv-uhwiesen.ch/event/altpapier-sommer-2016/
LOCATION:Uhwiesen\, Uhwiesen\, 8248\, Schweiz
CATEGORIES:Turnverein
END:VEVENT
BEGIN:VEVENT
DTSTART;VALUE=DATE:20160624
DTEND;VALUE=DATE:20160627
DTSTAMP:20260420T052527
CREATED:20160113T081813Z
LAST-MODIFIED:20160126T115834Z
UID:181-1466726400-1466985599@www.tv-uhwiesen.ch
SUMMARY:Kantonalturnfest Thun 2016
DESCRIPTION:
URL:https://www.tv-uhwiesen.ch/event/kantonalturnfest-thun-2016/
CATEGORIES:Turnverein
END:VEVENT
BEGIN:VEVENT
DTSTART;VALUE=DATE:20160604
DTEND;VALUE=DATE:20160606
DTSTAMP:20260420T052527
CREATED:20160113T081742Z
LAST-MODIFIED:20160113T082733Z
UID:180-1464998400-1465171199@www.tv-uhwiesen.ch
SUMMARY:Regionalmeisterschaft Effretikon 2016
DESCRIPTION:
URL:https://www.tv-uhwiesen.ch/event/regionalmeisterschaft-effretikon-2016/
CATEGORIES:Turnverein
END:VEVENT
BEGIN:VEVENT
DTSTART;VALUE=DATE:20160521
DTEND;VALUE=DATE:20160522
DTSTAMP:20260420T052527
CREATED:20160113T081632Z
LAST-MODIFIED:20160224T074329Z
UID:179-1463788800-1463875199@www.tv-uhwiesen.ch
SUMMARY:Jugendsporttag 2016
DESCRIPTION:
URL:https://www.tv-uhwiesen.ch/event/jugensporttag_2016/
LOCATION:Unbenannter Veranstaltungsort\, Henngart\, Schweiz
CATEGORIES:Jugendriege,Mädchenriege
END:VEVENT
BEGIN:VEVENT
DTSTART;TZID=Europe/Zurich:20160319T090000
DTEND;TZID=Europe/Zurich:20160319T140000
DTSTAMP:20260420T052527
CREATED:20151230T133512Z
LAST-MODIFIED:20151230T133512Z
UID:114-1458378000-1458396000@www.tv-uhwiesen.ch
SUMMARY:Altpapiersammlung Frühjahr 2016
DESCRIPTION:Wir bitten Sie Ihr Altpapier gebündelt und gut sichtbar bis 09.00 Uhr am Strassenrand bereitzustellen.
URL:https://www.tv-uhwiesen.ch/event/altpapiersammlung-fruhjahr-2016/
CATEGORIES:Turnverein
END:VEVENT
BEGIN:VEVENT
DTSTART;VALUE=DATE:20160220
DTEND;VALUE=DATE:20160222
DTSTAMP:20260420T052527
CREATED:20160113T081511Z
LAST-MODIFIED:20160113T082748Z
UID:178-1455926400-1456099199@www.tv-uhwiesen.ch
SUMMARY:Skiweekend 2016
DESCRIPTION:Organisiert von Katja und Jessie\, Ort streng geheim.
URL:https://www.tv-uhwiesen.ch/event/skiweekend-2016/
CATEGORIES:Turnverein
END:VEVENT
BEGIN:VEVENT
DTSTART;TZID=Europe/Zurich:20160129T200000
DTEND;TZID=Europe/Zurich:20160129T220000
DTSTAMP:20260420T052527
CREATED:20150916T110028Z
LAST-MODIFIED:20160113T083444Z
UID:78-1454097600-1454104800@www.tv-uhwiesen.ch
SUMMARY:Generalversammlung 2016
DESCRIPTION:Einladung GV 2016
URL:https://www.tv-uhwiesen.ch/event/generalversammlung/
CATEGORIES:Turnverein
END:VEVENT
BEGIN:VEVENT
DTSTART;VALUE=DATE:20151204
DTEND;VALUE=DATE:20151205
DTSTAMP:20260420T052527
CREATED:20150916T110125Z
LAST-MODIFIED:20150916T125103Z
UID:79-1449187200-1449273599@www.tv-uhwiesen.ch
SUMMARY:Chlausabend Jugend 2015
DESCRIPTION:
URL:https://www.tv-uhwiesen.ch/event/chlausabend-jugend/
LOCATION:Schützenhaus\, Uhwiesen\, 8248\, Schweiz
CATEGORIES:Jugendriege,Mädchenriege
END:VEVENT
BEGIN:VEVENT
DTSTART;VALUE=DATE:20151204
DTEND;VALUE=DATE:20151205
DTSTAMP:20260420T052527
CREATED:20150916T110046Z
LAST-MODIFIED:20150916T125054Z
UID:75-1449187200-1449273599@www.tv-uhwiesen.ch
SUMMARY:Chlausabend Turnverein 2015
DESCRIPTION:
URL:https://www.tv-uhwiesen.ch/event/chlausabend/
LOCATION:Schützenhaus\, Uhwiesen\, 8248\, Schweiz
CATEGORIES:Turnverein
END:VEVENT
BEGIN:VEVENT
DTSTART;VALUE=DATE:20151128
DTEND;VALUE=DATE:20151130
DTSTAMP:20260420T052527
CREATED:20150916T091742Z
LAST-MODIFIED:20151105T071145Z
UID:68-1448668800-1448841599@www.tv-uhwiesen.ch
SUMMARY:Chränzli 2015
DESCRIPTION:Das Chränzli findet dieses Jahr unter dem Motto: „Taxi für alli“ statt.
URL:https://www.tv-uhwiesen.ch/event/chranzli-2015/
LOCATION:Turnhalle Uhwiesen\, Zöllistrasse 18\, Uhwiesen\, Zürich\, 8248\, Schweiz
CATEGORIES:Frauenturnverein,Jugendriege,Mädchenriege,Männerriege,Turnverein
END:VEVENT
END:VCALENDAR