BEGIN:VCALENDAR
VERSION:2.0
PRODID:-//TV Uhwiesen - ECPv6.2.9//NONSGML v1.0//EN
CALSCALE:GREGORIAN
METHOD:PUBLISH
X-ORIGINAL-URL:https://www.tv-uhwiesen.ch
X-WR-CALDESC:Veranstaltungen im TV Uhwiesen
REFRESH-INTERVAL;VALUE=DURATION:PT1H
X-Robots-Tag:noindex
X-PUBLISHED-TTL:PT1H
BEGIN:VTIMEZONE
TZID:Europe/Zurich
BEGIN:DAYLIGHT
TZOFFSETFROM:+0100
TZOFFSETTO:+0200
TZNAME:CEST
DTSTART:20220327T010000
END:DAYLIGHT
BEGIN:STANDARD
TZOFFSETFROM:+0200
TZOFFSETTO:+0100
TZNAME:CET
DTSTART:20221030T010000
END:STANDARD
END:VTIMEZONE
BEGIN:VEVENT
DTSTART;TZID=Europe/Zurich:20220617T000000
DTEND;TZID=Europe/Zurich:20220619T000000
DTSTAMP:20260423T044624
CREATED:20220313T190857Z
LAST-MODIFIED:20220313T190857Z
UID:546-1655424000-1655596800@www.tv-uhwiesen.ch
SUMMARY:Regionalturnfest Wiesendangen
DESCRIPTION:Verantwortlich: Oberturner
URL:https://www.tv-uhwiesen.ch/event/regionalturnfest-wiesendangen/
END:VEVENT
BEGIN:VEVENT
DTSTART;TZID=Europe/Zurich:20220625T000000
DTEND;TZID=Europe/Zurich:20220626T000000
DTSTAMP:20260423T044624
CREATED:20220313T191035Z
LAST-MODIFIED:20220313T191035Z
UID:548-1656115200-1656201600@www.tv-uhwiesen.ch
SUMMARY:Glarner Bündner Kantonalturnfest Näfels
DESCRIPTION:Verantwortlich: Oberturner
URL:https://www.tv-uhwiesen.ch/event/glarner-buendner-kantonalturnfest-naefels/
END:VEVENT
END:VCALENDAR