BEGIN:VCALENDAR
VERSION:2.0
PRODID:-//TV Uhwiesen - ECPv6.2.9//NONSGML v1.0//EN
CALSCALE:GREGORIAN
METHOD:PUBLISH
X-WR-CALNAME:TV Uhwiesen
X-ORIGINAL-URL:https://www.tv-uhwiesen.ch
X-WR-CALDESC:Veranstaltungen im TV Uhwiesen
REFRESH-INTERVAL;VALUE=DURATION:PT1H
X-Robots-Tag:noindex
X-PUBLISHED-TTL:PT1H
BEGIN:VTIMEZONE
TZID:Europe/Zurich
BEGIN:DAYLIGHT
TZOFFSETFROM:+0100
TZOFFSETTO:+0200
TZNAME:CEST
DTSTART:20250330T010000
END:DAYLIGHT
BEGIN:STANDARD
TZOFFSETFROM:+0200
TZOFFSETTO:+0100
TZNAME:CET
DTSTART:20251026T010000
END:STANDARD
END:VTIMEZONE
BEGIN:VEVENT
DTSTART;VALUE=DATE:20251101
DTEND;VALUE=DATE:20251102
DTSTAMP:20260420T013359
CREATED:20250722T184353Z
LAST-MODIFIED:20250722T184353Z
UID:658-1761955200-1762041599@www.tv-uhwiesen.ch
SUMMARY:Altpapiersammlung Männerriege
DESCRIPTION:
URL:https://www.tv-uhwiesen.ch/event/altpapiersammlung-maennerriege-2/
CATEGORIES:Männerriege
END:VEVENT
BEGIN:VEVENT
DTSTART;VALUE=DATE:20251109
DTEND;VALUE=DATE:20251110
DTSTAMP:20260420T013359
CREATED:20250722T184427Z
LAST-MODIFIED:20250722T184427Z
UID:660-1762646400-1762732799@www.tv-uhwiesen.ch
SUMMARY:Sonntagsprobe Chränzli
DESCRIPTION:
URL:https://www.tv-uhwiesen.ch/event/sonntagsprobe-chraenzli/
CATEGORIES:Frauenturnverein,Jugendriege,Mädchenriege,Männerriege,Turnverein
END:VEVENT
BEGIN:VEVENT
DTSTART;VALUE=DATE:20251118
DTEND;VALUE=DATE:20251120
DTSTAMP:20260420T013359
CREATED:20250722T184525Z
LAST-MODIFIED:20250722T184525Z
UID:662-1763424000-1763596799@www.tv-uhwiesen.ch
SUMMARY:Bühnenprobe Chränzli
DESCRIPTION:
URL:https://www.tv-uhwiesen.ch/event/buehnenprobe-chraenzli/
CATEGORIES:Frauenturnverein,Jugendriege,Mädchenriege,Männerriege,Turnverein
END:VEVENT
BEGIN:VEVENT
DTSTART;VALUE=DATE:20251120
DTEND;VALUE=DATE:20251121
DTSTAMP:20260420T013359
CREATED:20250722T184606Z
LAST-MODIFIED:20250722T184606Z
UID:664-1763596800-1763683199@www.tv-uhwiesen.ch
SUMMARY:Hauptprobe Chränzli
DESCRIPTION:
URL:https://www.tv-uhwiesen.ch/event/hauptprobe-chraenzli/
CATEGORIES:Frauenturnverein,Jugendriege,Mädchenriege,Männerriege,Turnverein
END:VEVENT
BEGIN:VEVENT
DTSTART;VALUE=DATE:20251121
DTEND;VALUE=DATE:20251124
DTSTAMP:20260420T013359
CREATED:20250722T184639Z
LAST-MODIFIED:20250722T184639Z
UID:666-1763683200-1763942399@www.tv-uhwiesen.ch
SUMMARY:Chränzli Wochenende
DESCRIPTION:
URL:https://www.tv-uhwiesen.ch/event/chraenzli-wochenende/
CATEGORIES:Frauenturnverein,Jugendriege,Mädchenriege,Männerriege,Turnverein
END:VEVENT
END:VCALENDAR